BEGIN:VCALENDAR
VERSION:2.0
PRODID:-//Beekeeper Group - ECPv6.15.9//NONSGML v1.0//EN
CALSCALE:GREGORIAN
METHOD:PUBLISH
X-WR-CALNAME:Beekeeper Group
X-ORIGINAL-URL:https://development.beekeepergroup.com
X-WR-CALDESC:Events for Beekeeper Group
REFRESH-INTERVAL;VALUE=DURATION:PT1H
X-Robots-Tag:noindex
X-PUBLISHED-TTL:PT1H
BEGIN:VTIMEZONE
TZID:America/New_York
BEGIN:DAYLIGHT
TZOFFSETFROM:-0500
TZOFFSETTO:-0400
TZNAME:EDT
DTSTART:20240310T070000
END:DAYLIGHT
BEGIN:STANDARD
TZOFFSETFROM:-0400
TZOFFSETTO:-0500
TZNAME:EST
DTSTART:20241103T060000
END:STANDARD
BEGIN:DAYLIGHT
TZOFFSETFROM:-0500
TZOFFSETTO:-0400
TZNAME:EDT
DTSTART:20250309T070000
END:DAYLIGHT
BEGIN:STANDARD
TZOFFSETFROM:-0400
TZOFFSETTO:-0500
TZNAME:EST
DTSTART:20251102T060000
END:STANDARD
BEGIN:DAYLIGHT
TZOFFSETFROM:-0500
TZOFFSETTO:-0400
TZNAME:EDT
DTSTART:20260308T070000
END:DAYLIGHT
BEGIN:STANDARD
TZOFFSETFROM:-0400
TZOFFSETTO:-0500
TZNAME:EST
DTSTART:20261101T060000
END:STANDARD
END:VTIMEZONE
BEGIN:VEVENT
DTSTART;TZID=America/New_York:20251029T123000
DTEND;TZID=America/New_York:20251029T163000
DTSTAMP:20260422T093934
CREATED:20251031T165518Z
LAST-MODIFIED:20251031T165518Z
UID:10000011-1761741000-1761755400@development.beekeepergroup.com
SUMMARY:Cool/Scary AI Sh!t DC
DESCRIPTION:Free\, community-led forum on AI’s promises and risks for social impact—lightning talks\, small-group dialogues\, and actionable next steps.\nCool/Scary AI Sh*t isn’t a celebration of artificial intelligence—it’s a clear-eyed look at how AI is already reshaping mission-driven work\, for better and worse. This half-day gathering brings together nonprofit leaders\, digital practitioners\, and creative technologists to explore the real-world implications of AI in social impact spaces. \nForget the corporate hype. Cool/Scary AI Sh*t is an alternative to the usual conference circuit: an intimate\, high-energy space for honest conversations about what’s working\, what’s risky\, and what’s next. No rigid agenda. No buzzword-laden keynotes. Just a curated lineup of speakers sharing lived experiments\, cautionary tales\, and breakthrough ideas. \nYou’ll hear from nonprofit teams\, social entrepreneurs\, and movement technologists applying AI to solve real problems—while wrestling with the ethical\, operational\, and cultural questions that come with it. Formats include TED-style talks\, panel discussions\, podcast-style interviews\, and fast-paced Pecha Kucha presentations to keep things sharp and grounded. \nIf you’re looking for real talk—not just optimism—about how AI is transforming mission-driven work\, this is your space.
URL:https://development.beekeepergroup.com/event/cool-scary-ai/
LOCATION:MLK Memorial Library
CATEGORIES:Sponsored Events
ATTACH;FMTTYPE=image/png:https://development.beekeepergroup.com/wp-content/uploads/2025/10/BKG25-Bravo-Slide-Pink.png
END:VEVENT
END:VCALENDAR